BEGIN:VCALENDAR
VERSION:2.0
PRODID:-//https://rrcatstaffclub.in///NONSGML kigkonsult.se iCalcreator 2.10.15//
METHOD:PUBLISH
BEGIN:VEVENT
UID:20260424T211217UTC-2618TxC096@https://rrcatstaffclub.in/
DTSTAMP:20260424T211217Z
DESCRIPTION:Dear All\,\nThe Science Discovery Club will be screening the th
 ird episode of 'Life' series 'Mammals' on June 22\, 2018 in the Vikram Sar
 abhai Hall\, Convention Centre\, from 7 to 8 PM. All members of the Staff 
 Club are invited to the screening.\nwith best regardsSendhil https://rrcat
 staffclub.in/events/rrcat/event/170-science-movie-night
DTSTART:20180622T133000Z
DTEND:20180622T143000Z
LOCATION:Vikram Sarabhai Hall\, RRCAT Convention Centre (Unnamed Road\, RRC
 AT\, Indore\, Madhya Pradesh 452013\, India)
SUMMARY:Science Movie Night
URL:https://rrcatstaffclub.in/events/rrcat/event/170-science-movie-night
END:VEVENT
END:VCALENDAR
