BEGIN:VCALENDAR
VERSION:2.0
PRODID:-//https://rrcatstaffclub.in///NONSGML kigkonsult.se iCalcreator 2.10.15//
METHOD:PUBLISH
BEGIN:VEVENT
UID:20260424T191044UTC-96753oaV6b@https://rrcatstaffclub.in/
DTSTAMP:20260424T191044Z
DESCRIPTION:Dear Colleagues\,\nAnnouncement\, Enrollment form and the detai
 ls of the Tenth All India DAE Himalayan Trekking Expedition\,'TREK THE HIM
 ALAYA-10' is attached.\n \nWith best wishes\,\nRajesh ShirsatConvener\, Na
 ture &amp\; Adventure CircleRRCAT Staff Club https://rrcatstaffclub.in/eve
 nts/rrcat/event/172-himalayan-trekking-expedition
DTSTART:20180923T183000Z
DTEND:20181003T182959Z
LOCATION:Kuari Pass trek (Unnamed Road\, Uttarakhand 246472\, India)
SUMMARY:Himalayan Trekking Expedition
URL:https://rrcatstaffclub.in/events/rrcat/event/172-himalayan-trekking-exp
 edition
END:VEVENT
END:VCALENDAR
