BEGIN:VCALENDAR
VERSION:2.0
PRODID:-//https://rrcatstaffclub.in///NONSGML kigkonsult.se iCalcreator 2.10.15//
METHOD:PUBLISH
BEGIN:VEVENT
UID:20260424T211731UTC-8034PTRLGV@https://rrcatstaffclub.in/
DTSTAMP:20260424T211731Z
DESCRIPTION:Dear All\,\nRRCAT Staff Club is organising a Lecture on July\, 
 2\, 2018\, Monday\, at&nbsp\;6:30 PM in Vikram Sarabhai hall\, convention 
 centre. The invited&nbsp\;speaker is Shri. Jayant Sahasrabuddhe\, Organisi
 ng Secretary\, Vigyan&nbsp\;Bharati. The title of the lecture is 'Swami Vi
 vekanand: A Scientific&nbsp\;Visionary'.\nAll are co-ordially invited for 
 the lecture.\nWith best regards\,\nA S JoshiPresident\, RRCAT Staff Club h
 ttps://rrcatstaffclub.in/events/rrcat/event/173-rrcat-staff-club-lecture
DTSTART:20180702T130000Z
DTEND:20180702T140000Z
LOCATION:Vikram Sarabhai Hall\, RRCAT Convention Centre (Unnamed Road\, RRC
 AT\, Indore\, Madhya Pradesh 452013\, India)
SUMMARY:RRCAT Staff Club Lecture
URL:https://rrcatstaffclub.in/events/rrcat/event/173-rrcat-staff-club-lectu
 re
END:VEVENT
END:VCALENDAR
