BEGIN:VCALENDAR
VERSION:2.0
PRODID:-//https://rrcatstaffclub.in///NONSGML kigkonsult.se iCalcreator 2.10.15//
METHOD:PUBLISH
BEGIN:VEVENT
UID:20260424T230709UTC-6519mDZvxt@https://rrcatstaffclub.in/
DTSTAMP:20260424T230709Z
DESCRIPTION:Dear All\,\nThe Science Discovery Club will be screening the fi
 fth episode of 'Life' series 'Birds' on July 6\, 2018 in the Vikram Sarabh
 ai Hall\, Convention Centre\, from 7 to 8 PM. All members of the Staff Clu
 b are invited to the screening.\nwith best regardsSendhil https://rrcatsta
 ffclub.in/events/rrcat/event/178-science-movie-night
DTSTART:20180706T133000Z
DTEND:20180706T143000Z
LOCATION:Vikram Sarabhai Hall\, RRCAT Convention Centre (Unnamed Road\, RRC
 AT\, Indore\, Madhya Pradesh 452013\, India)
SUMMARY:Science Movie Night
URL:https://rrcatstaffclub.in/events/rrcat/event/178-science-movie-night
END:VEVENT
END:VCALENDAR
