BEGIN:VCALENDAR
VERSION:2.0
PRODID:-//https://rrcatstaffclub.in///NONSGML kigkonsult.se iCalcreator 2.10.15//
METHOD:PUBLISH
BEGIN:VEVENT
UID:20260424T230841UTC-7196bIMUcb@https://rrcatstaffclub.in/
DTSTAMP:20260424T230841Z
DESCRIPTION:Dear All\,\nThe Science Discovery Club will be screening the se
 venth episode of 'Hunters and Hunted' series 'Insects' on July 20\, 2018 i
 n the Vikram Sarabhai Hall\, Convention Centre\, from 7 to 8 PM. All membe
 rs of the Staff Club are invited to the screening.\nwith best regardsSendh
 il https://rrcatstaffclub.in/events/rrcat/event/182-science-movie-night
DTSTART:20180720T133000Z
DTEND:20180720T143000Z
LOCATION:Vikram Sarabhai Hall\, RRCAT Convention Centre (Unnamed Road\, RRC
 AT\, Indore\, Madhya Pradesh 452013\, India)
SUMMARY:Science Movie Night
URL:https://rrcatstaffclub.in/events/rrcat/event/182-science-movie-night
END:VEVENT
END:VCALENDAR
