BEGIN:VCALENDAR
VERSION:2.0
PRODID:-//https://rrcatstaffclub.in///NONSGML kigkonsult.se iCalcreator 2.10.15//
METHOD:PUBLISH
BEGIN:VEVENT
UID:20260424T191539UTC-7322Jj030g@https://rrcatstaffclub.in/
DTSTAMP:20260424T191539Z
DESCRIPTION:Dear Colleagues\,\nNature and Adventure Circle\, RRCAT Staff Cl
 ub has arranged a one day trek on Sunday 19th August 2018 at Saat Imali\, 
 near Telyakhedi village (Kampel region). This place is around 40 km from I
 ndore.\nThe details of the trekking program are attached.\nFor any query r
 egarding the program and enrollment\, kindly contact the undersigned.\nWit
 h best wishes &amp\; regards\,\nRajesh ShirsatConvener\,Nature &amp\; Adve
 nture Circle (NAC)RRCAT Staff ClubTel. 2001/8439Mob: 89896-00083\nClick he
 re for more Information &amp\; online application \n  https://rrcatstaffcl
 ub.in/events/rrcat/event/189-one-day-trekking-programme-at-saat-imali-near
 -telyakhedi-village
DTSTART:20180819T014500Z
DTEND:20180819T113000Z
LOCATION:Saat Imali (Telyakhedi village) (Telyakhedi\, Madhya Pradesh 45202
 0\, India)
SUMMARY:One day trekking programme at 'Saat Imali' (near Telyakhedi village
 )
URL:https://rrcatstaffclub.in/events/rrcat/event/189-one-day-trekking-progr
 amme-at-saat-imali-near-telyakhedi-village
END:VEVENT
END:VCALENDAR
