BEGIN:VCALENDAR
VERSION:2.0
PRODID:-//https://rrcatstaffclub.in///NONSGML kigkonsult.se iCalcreator 2.10.15//
METHOD:PUBLISH
BEGIN:VEVENT
UID:20260424T211052UTC-8218LPVRrN@https://rrcatstaffclub.in/
DTSTAMP:20260424T211052Z
DESCRIPTION:Dear All\,\nThe Science Discovery Club will be screening the te
 nth episode of 'Life' series 'Primates' on August 17\, 2018 in the Vikram 
 Sarabhai Hall\, Convention Centre\, from 7 to 8 PM. \nThis is a reschedule
 d event which was not screened last week due to some unforeseen circumstan
 ces.\nAll members of the RRCAT Staff Club with their families are invited 
 to the screening.\nwith best regardsScience Discovery ClubRRCAT Staff Club
  https://rrcatstaffclub.in/events/rrcat/event/191-science-movie-night
DTSTART:20180817T133000Z
DTEND:20180817T143000Z
LOCATION:Vikram Sarabhai Hall\, RRCAT Convention Centre (Unnamed Road\, RRC
 AT\, Indore\, Madhya Pradesh 452013\, India)
SUMMARY:Science Movie Night
URL:https://rrcatstaffclub.in/events/rrcat/event/191-science-movie-night
END:VEVENT
END:VCALENDAR
