BEGIN:VCALENDAR
VERSION:2.0
PRODID:-//https://rrcatstaffclub.in///NONSGML kigkonsult.se iCalcreator 2.10.15//
METHOD:PUBLISH
BEGIN:VEVENT
UID:20260424T231052UTC-843181pT2G@https://rrcatstaffclub.in/
DTSTAMP:20260424T231052Z
DESCRIPTION:Dear All\,\nThe Science Discovery Club will be starting a new s
 eries titled 'Wonders of the Solar System' produced by BBC-Science Channel
  and hosted by Prof. Brian Cox. The first episode of the five part series 
 'Empire of the Sun' will be screened on Aug 24\, 2018 in the Vikram Sarabh
 ai Hall\, Convention Centre\, from 7 to 8 PM. All members of the Science E
 xplorers Club of AECS and Staff Club of RRCAT are invited to the screening
 .\n A S JoshiPresident\, RRCAT Staff Club https://rrcatstaffclub.in/events
 /rrcat/event/195-science-movie-night
DTSTART:20180824T133000Z
DTEND:20180824T143000Z
LOCATION:Vikram Sarabhai Hall\, RRCAT Convention Centre (Unnamed Road\, RRC
 AT\, Indore\, Madhya Pradesh 452013\, India)
SUMMARY:Science Movie Night
URL:https://rrcatstaffclub.in/events/rrcat/event/195-science-movie-night
END:VEVENT
END:VCALENDAR
