BEGIN:VCALENDAR
VERSION:2.0
PRODID:-//https://rrcatstaffclub.in///NONSGML kigkonsult.se iCalcreator 2.10.15//
METHOD:PUBLISH
BEGIN:VEVENT
UID:20260424T211732UTC-8165F0CVDV@https://rrcatstaffclub.in/
DTSTAMP:20260424T211732Z
DESCRIPTION:Dear Colleagues\,\nThe Yog Circle of RRCAT Staff Club is organi
 sing a 1 week discourse titled 'Geeta Gyan Yagna' to be held from 27th Aug
 ust to 1st September\, 2018 at Multipurpose Hall\, AECS\, Indore.For more 
 details about the program\, kindly see the attached document\nAll staff cl
 ub members and their families are invited for this program\nWith kind rega
 rds\,SecretaryRRCAT Staff Club https://rrcatstaffclub.in/events/rrcat/even
 t/196-geeta-gyan-yagne
DTSTART:20180826T183001Z
DTEND:20180901T182959Z
LOCATION:Multipurpose Hall\, AECS\, Indore (Unnamed Road\, RRCAT\, Indore\,
  Madhya Pradesh 452013\, India)
SUMMARY:Geeta Gyan Yagne
URL:https://rrcatstaffclub.in/events/rrcat/event/196-geeta-gyan-yagne
END:VEVENT
END:VCALENDAR
