BEGIN:VCALENDAR
VERSION:2.0
PRODID:-//https://rrcatstaffclub.in///NONSGML kigkonsult.se iCalcreator 2.10.15//
METHOD:PUBLISH
BEGIN:VEVENT
UID:20260424T211247UTC-3695iTSH1r@https://rrcatstaffclub.in/
DTSTAMP:20260424T211247Z
DESCRIPTION:Dear All\,\nThe Science Discovery Club will be screening the se
 cond episode 'Order Out of Chaos' of the five part series 'Wonders of the 
 Solar System' on Aug 31\, 2018 in the Vikram Sarabhai Hall\, Convention Ce
 ntre\, from 7 to 8 PM. All members of the Science Explorers Club of AECS a
 nd Staff Club of RRCAT are invited to the screening.\n SecretaryRRCAT Staf
 f Club https://rrcatstaffclub.in/events/rrcat/event/198-science-movie-nigh
 t
DTSTART:20180831T133000Z
DTEND:20180831T143000Z
LOCATION:Vikram Sarabhai Hall\, RRCAT Convention Centre (Unnamed Road\, RRC
 AT\, Indore\, Madhya Pradesh 452013\, India)
SUMMARY:Science Movie Night
URL:https://rrcatstaffclub.in/events/rrcat/event/198-science-movie-night
END:VEVENT
END:VCALENDAR
