BEGIN:VCALENDAR
VERSION:2.0
PRODID:-//https://rrcatstaffclub.in///NONSGML kigkonsult.se iCalcreator 2.10.15//
METHOD:PUBLISH
BEGIN:VEVENT
UID:20260424T191540UTC-2294xABx0t@https://rrcatstaffclub.in/
DTSTAMP:20260424T191540Z
DESCRIPTION:Dear Colleagues\,\nAs informed earlier\, Nature and Adventure C
 ircle\, RRCAT Staff Club has arranged repeat trek on Sunday\, 9th Septembe
 r 2018 at 'Saat Imali' for those members who could not participate in this
  event in August.\nFor more details please see the attached document.\nPle
 ase note that those who had filled online form for this trek in August but
  could not participate due to lack of seats will have to apply again throu
 gh the staff club website. Old form will not be accepted.\nFor any query r
 egarding the program and enrollment\, kindly contact the undersigned.\nWit
 h best wishes &amp\; regards\,\nRajesh ShirsatConvener\,Nature &amp\; Adve
 nture Circle (NAC)RRCAT Staff ClubTel. 2001/8439Mob: 89896-00083\nClick he
 re for more Information &amp\; online application \n  https://rrcatstaffcl
 ub.in/events/rrcat/event/199-repeat-one-day-trekking-programme-at-saat-ima
 li-near-telyakhedi-village
DTSTART:20180909T014500Z
DTEND:20180909T113000Z
LOCATION:Saat Imali (Telyakhedi village) (Telyakhedi\, Madhya Pradesh 45202
 0\, India)
SUMMARY:Repeat - One day trekking programme at 'Saat Imali' (near Telyakhed
 i village)
URL:https://rrcatstaffclub.in/events/rrcat/event/199-repeat-one-day-trekkin
 g-programme-at-saat-imali-near-telyakhedi-village
END:VEVENT
END:VCALENDAR
