BEGIN:VCALENDAR
VERSION:2.0
PRODID:-//https://rrcatstaffclub.in///NONSGML kigkonsult.se iCalcreator 2.10.15//
METHOD:PUBLISH
BEGIN:VEVENT
UID:20260424T191414UTC-7449aggP41@https://rrcatstaffclub.in/
DTSTAMP:20260424T191414Z
DESCRIPTION:Dear all\,Nature and Adventure Circle\, RRCAT Staff Club\, anno
 unces a one day trek at Bhairav Kund water fall on Sunday\, 3rd September 
 2017. \nThe details of the trekking program and the enrollment form is att
 ached.For any query regarding the program\, kindly contact the undersigned
 .\nWith best wishes &amp\; regards\,Rajesh ShirsatConvener\,Nature &amp\; 
 Adventure Circle (NAC)RRCAT Staff Club\, IndoreTel. 8932/8605Mob: 89896-00
 083\n \n  https://rrcatstaffclub.in/events/rrcat/event/2-one-day-trekking-
 programme-at-bhairav-kund-water-fall
DTSTART:20170903T030000Z
DTEND:20170903T120000Z
LOCATION: Bhaira Kund (Unnamed Road\, Panjarya\, Madhya Pradesh 452020\, In
 dia)
SUMMARY:One day trekking programme at 'Bhairav Kund Water Fall'
URL:https://rrcatstaffclub.in/events/rrcat/event/2-one-day-trekking-program
 me-at-bhairav-kund-water-fall
END:VEVENT
END:VCALENDAR
