BEGIN:VCALENDAR
VERSION:2.0
PRODID:-//https://rrcatstaffclub.in///NONSGML kigkonsult.se iCalcreator 2.10.15//
METHOD:PUBLISH
BEGIN:VEVENT
UID:20260424T211053UTC-1520zkvKFc@https://rrcatstaffclub.in/
DTSTAMP:20260424T211053Z
DESCRIPTION:Dear Colleagues\,\nRRCAT Staff Club announces the start of wint
 er season of Sky watching activity. We had 18 continuous weekly sessions i
 n the earlier season. The starting of the winter session of sky watching w
 as delayed due to cloudy skies well into October. The sky had been clear f
 or the past couple of days so we will re-start the sky watching sessions f
 rom this Saturday (Oct 21\, 2017) during 7 to 9 PM at school ground. Curre
 ntly Saturn will be high up in the sky during 7-9 PM so we will start the 
 new season with Saturn. Currently Saturn is oriented with its rings at max
 imum tilt towards the Earth making it a great view even with a small teles
 cope.A brief of the plan for the session is attached.\nWith best regards\,
 \nSecretaryRRCAT Staff Club https://rrcatstaffclub.in/events/rrcat/event/2
 0-sky-watch-ws-1
DTSTART:20171021T133000Z
DTEND:20171021T153000Z
LOCATION:AECS School Playground (Unnamed Road\, RRCAT\, Indore\, Madhya Pra
 desh 452013\, India)
SUMMARY:Sky Watch - WS 1
URL:https://rrcatstaffclub.in/events/rrcat/event/20-sky-watch-ws-1
END:VEVENT
END:VCALENDAR
