BEGIN:VCALENDAR
VERSION:2.0
PRODID:-//https://rrcatstaffclub.in///NONSGML kigkonsult.se iCalcreator 2.10.15//
METHOD:PUBLISH
BEGIN:VEVENT
UID:20260424T190635UTC-18274l4vin@https://rrcatstaffclub.in/
DTSTAMP:20260424T190635Z
DESCRIPTION:Dear Colleagues\,\nAnnouncement\, Enrollment form and Brochure 
 of the 30th All India DAE Trekking Expedition (Girisanchar-30) is attached
 .\nFollowing are some important points &amp\; dates:\nRegion: Bhira - Andh
 arban - Pimpri – Vaduste – Kailashgad- Nive – Plus Valley – Tamhini – Daps
 are – Ghol – Konkandiva - Sandoshi\nTrekking dates: 14-01-2019 to 27-01-20
 19 (total 8 batches)Enrollment starts from: 29-October-2018Last date of ac
 ceptance of forms: 15-November-2018\nInterested persons are requested to e
 nroll for the trek.For any queries regarding the expedition please contact
  undersigned.\nWith best wishes\,\nRajesh ShirsatConvener\, Nature &amp\; 
 Adventure CircleRRCAT Staff ClubTel. 2001/8439\n  https://rrcatstaffclub.i
 n/events/rrcat/event/211-girisanchar-30
DTSTART:20190113T183000Z
DTEND:20190127T173000Z
LOCATION:Bhira (Bhira\, Patnus\, Maharashtra 402308\, India)
SUMMARY:Girisanchar 30
URL:https://rrcatstaffclub.in/events/rrcat/event/211-girisanchar-30
END:VEVENT
END:VCALENDAR
