BEGIN:VCALENDAR
VERSION:2.0
PRODID:-//https://rrcatstaffclub.in///NONSGML kigkonsult.se iCalcreator 2.10.15//
METHOD:PUBLISH
BEGIN:VEVENT
UID:20260424T191634UTC-4091PKhFLd@https://rrcatstaffclub.in/
DTSTAMP:20260424T191634Z
DESCRIPTION:Dear Colleagues\,\nInformation regarding Nature and Adventure C
 amp-2018 for the wards of DAE employees is attached herewith.\nSome import
 ant points and date of the Nature Camp-2018 are:\nNature camp from : 22nd 
 to 25th December\, 2018\nAge group : 9 to 13 years\nParticipation fee : Rs
 . 3500/-\nEnrollment forms will be accepted from: 12-11-2018 to 24-11-2018
 \nWith best wishes &amp\; regards\,\nRajesh ShirsatConvener\, Nature &amp\
 ; Adventure CircleRRCAT Staff ClubTel. 2001/8439 https://rrcatstaffclub.in
 /events/rrcat/event/218-nature-and-adventure-camp-for-the-wards-of-dae-emp
 loyees-2018
DTSTART:20181221T183000Z
DTEND:20181225T173000Z
LOCATION:Vana Vihar\, Ambivali\, Karjat\, Raigad\, Maharashtra (Vanvihar\, 
 Ambivali\,\, Karjat\, India)
SUMMARY:Nature and Adventure Camp for the wards of DAE Employees - 2018
URL:https://rrcatstaffclub.in/events/rrcat/event/218-nature-and-adventure-c
 amp-for-the-wards-of-dae-employees-2018
END:VEVENT
END:VCALENDAR
