BEGIN:VCALENDAR
VERSION:2.0
PRODID:-//https://rrcatstaffclub.in///NONSGML kigkonsult.se iCalcreator 2.10.15//
METHOD:PUBLISH
BEGIN:VEVENT
UID:20260424T061636UTC-2246tMOAv1@https://rrcatstaffclub.in/
DTSTAMP:20260424T061636Z
DESCRIPTION:Dear Colleagues\,\nThe selection trials of Athletics on events 
 mentioned below will be held on 18th Nov. 2018 (Sunday) from 09:00 am onwa
 rds on AECS ground to represent RRCAT in Dwarka group trials.\nThe entry f
 ee will be ₹ 25/- per player.\nThe selection trials will be conducted in f
 ollowing categories:\n1. Gents: 100m\, 400m\, 1500m\, 4 X 100m relay\, Dis
 cuss Throw\, Long Jump\n2. Ladies: 100m\, 400m\, 4 X 100m relay\, Discuss 
 Throw\, Long Jump\n3. Veterans: 200m\, 400m\, 5km walk\nFor veterans categ
 ory age should be above 50 years as on 01/01/2018\nInterested players are 
 requested to visit the links given below and fill the form by 16th Nov.\, 
 2018 (Friday).\nhttps://rrcatstaffclub.com/forms/sports/rrcat-selection-tr
 ials-athletics\nPlease check the link given below for the results after tr
 ial.\nhttps://rrcatstaffclub.com/forms/sports/rrcat-selection-trials-athle
 tics/results\nCo-ConvenerR.N. ChaudharyPh.No.: 8796 rnchaudhary@rrcat.gov.
 in\nConvenerR.C. YadavPh. No.: 8395 ramchayan@rrcat.gov.in https://rrcatst
 affclub.in/events/rrcat/event/225-rrcat-selection-trials-for-athletics
DTSTART:20181118T033000Z
DTEND:20181118T063000Z
LOCATION:AECS School Playground (Unnamed Road\, RRCAT\, Indore\, Madhya Pra
 desh 452013\, India)
SUMMARY:RRCAT Selection Trials for Athletics
URL:https://rrcatstaffclub.in/events/rrcat/event/225-rrcat-selection-trials
 -for-athletics
END:VEVENT
END:VCALENDAR
