BEGIN:VCALENDAR
VERSION:2.0
PRODID:-//https://rrcatstaffclub.in///NONSGML kigkonsult.se iCalcreator 2.10.15//
METHOD:PUBLISH
BEGIN:VEVENT
UID:20260424T211558UTC-3687wl8uVM@https://rrcatstaffclub.in/
DTSTAMP:20260424T211558Z
DESCRIPTION:Dear Colleagues\nSelection trials of Badminton will be held on 
 17-19th Nov. 2018\, from 6.00 P.M to 9.30 P.M in Yoga Centre\, to represen
 t RRCAT in DWARKA group trials.\nThe selection trials will be conducted in
  following categories\nGentsLadiesVeteran\, (Above 50 years as on 01/01/20
 18)\nInterested players are requested to enroll by visiting the links give
 n below and fill the form by Nov. 16th Nov. 2018. Fee of ₹ 100/- per playe
 r should be submitted at the staff club office.\nhttps://rrcatstaffclub.co
 m/forms/sports/rrcat-selection-trials-badminton\nPlease check the link giv
 en below for the results after trial.\nhttps://rrcatstaffclub.com/forms/sp
 orts/rrcat-selection-trials-badminton/results\nConvenerDr. M. K. SwamiPh N
 o. 2592 / 8989694128Email: maheshswami@rrcat.gov.in\n  https://rrcatstaffc
 lub.in/events/rrcat/event/226-rrcat-selection-trials-for-badminton
DTSTART:20181117T123000Z
DTEND:20181117T160000Z
LOCATION:Badminton Court - Yoga Center (Unnamed Road\, RRCAT\, Indore\, Mad
 hya Pradesh 452013\, India)
SUMMARY:RRCAT Selection Trials for Badminton
URL:https://rrcatstaffclub.in/events/rrcat/event/226-rrcat-selection-trials
 -for-badminton
END:VEVENT
END:VCALENDAR
