BEGIN:VCALENDAR
VERSION:2.0
PRODID:-//https://rrcatstaffclub.in///NONSGML kigkonsult.se iCalcreator 2.10.15//
METHOD:PUBLISH
BEGIN:VEVENT
UID:20260424T211120UTC-1398FJWbmA@https://rrcatstaffclub.in/
DTSTAMP:20260424T211120Z
DESCRIPTION:Good health is life’s greatest blessing. Today\, the demon of c
 ancer is gulping households like never before. It is urgent requirement of
  the hour that we spread awareness about cancer among RRCAT community. In 
 this context\, RRCAT Women’s Welfare Committee is organizing a talk in co-
 ordination with Medical Centre\, RRCAT. The details of the talk are as fol
 lows:\n  Speaker : Dr. S.P. Shrivastava\, HoD\, Department of Oncology\, S
 halby Hospital\, Indore Topic     : Breast Cancer Awareness Date      : 14
 th Nov 2018\, Wednesday Time     : 3:00 pm \; 40 min presentation followed
  by 20 min Queries from audience Venue   : Convention Centre\, RRCAT  This
  talk is open for all employees of RRCAT(male &amp\; female)\, spouses of 
 employees and all colony residents. Students (M.Tech\, Ph.D. etc.) may kin
 dly be informed through their guides. \nPlease join in the cause to spread
  awareness.  Women’s Welfare Committee  https://rrcatstaffclub.in/events/r
 rcat/event/227-cancer-awareness-talk
DTSTART:20181114T093000Z
DTEND:20181114T103000Z
LOCATION:Homi Bhabha Auditorium\, RRCAT Convention Center (Unnamed Road\, R
 RCAT\, Indore\, Madhya Pradesh 452013\, India)
SUMMARY:CANCER Awareness Talk
URL:https://rrcatstaffclub.in/events/rrcat/event/227-cancer-awareness-talk
END:VEVENT
END:VCALENDAR
