BEGIN:VCALENDAR
VERSION:2.0
PRODID:-//https://rrcatstaffclub.in///NONSGML kigkonsult.se iCalcreator 2.10.15//
METHOD:PUBLISH
BEGIN:VEVENT
UID:20260424T211528UTC-6820XOUvAM@https://rrcatstaffclub.in/
DTSTAMP:20260424T211528Z
DESCRIPTION:Dear Colleagues\,\nRRCAT Staff Club will be organizing Night Cr
 icket Tournament 2019 (Tennis Ball) as per guidelines attached.\nDate: 11t
 h June 2019\nVenue: RRCAT Cricket Ground\nInterested players are requested
  to fill the online form by visiting the links given below by 10th June 20
 19.\nhttps://www.rrcatstaffclub.com/forms/sports/cricket-team-submission\n
 R.K. ChoudharyConvener\, Cricket Activity\nYogesh KelkarActivity In-charge
  (Outdoor Sports) https://rrcatstaffclub.in/events/rrcat/event/283-night-c
 ricket-tournament
DTSTART;VALUE=DATE:20190611
LOCATION:AECS School Playground (Unnamed Road\, RRCAT\, Indore\, Madhya Pra
 desh 452013\, India)
SUMMARY:Night Cricket Tournament
URL:https://rrcatstaffclub.in/events/rrcat/event/283-night-cricket-tourname
 nt
END:VEVENT
END:VCALENDAR
