BEGIN:VCALENDAR
VERSION:2.0
PRODID:-//https://rrcatstaffclub.in///NONSGML kigkonsult.se iCalcreator 2.10.15//
METHOD:PUBLISH
BEGIN:VEVENT
UID:20260424T211734UTC-3666JShafP@https://rrcatstaffclub.in/
DTSTAMP:20260424T211734Z
DESCRIPTION:Dear Colleagues\,\nRRCAT Staff Club\, Yoga Activity is happy to
  announce the following Workshop on MANTRA YOGA-SOUND THERAPY for the bene
 fit of all as per schedule given below and details attached.\nSPEAKER: SHR
 I VIJAYA RAWAL\, SANSTHAN PRAMARTHIK NYAS\, UJJAIN\nDATE and Time : 15TH J
 UNE 2019 (SATURDAY) &amp\; 18:15 TO 19:45 HRS.\nVENUE : MULTIPURPOSE HALL\
 , AECS\, INDORE\nB. Devdasan\,Convener\, Yoga Activity\nG. Haridas\,Activi
 ty Incharge\n  https://rrcatstaffclub.in/events/rrcat/event/285-workshop-o
 n-mantra-yoga-sound-therapy
DTSTART:20190615T124500Z
DTEND:20190615T141500Z
LOCATION:Yoga Center (Unnamed Road\, RRCAT\, Indore\, Madhya Pradesh 452013
 \, India)
SUMMARY:Workshop on Mantra Yoga-Sound Therapy
URL:https://rrcatstaffclub.in/events/rrcat/event/285-workshop-on-mantra-yog
 a-sound-therapy
END:VEVENT
END:VCALENDAR
