BEGIN:VCALENDAR
VERSION:2.0
PRODID:-//https://rrcatstaffclub.in///NONSGML kigkonsult.se iCalcreator 2.10.15//
METHOD:PUBLISH
BEGIN:VEVENT
UID:20260424T231553UTC-87734AUd6d@https://rrcatstaffclub.in/
DTSTAMP:20260424T231553Z
DESCRIPTION:Dear Colleagues\,\nRRCAT Staff Club in association with Medical
  Center is organizing a 'Free Medical Check-up Camp on Bone Mineral Densit
 y (BMD) test as per schedule given below-\nCamp Conducted By: Dr Abhay Man
 chanda (Orthopaedic Surgeon)\nVenue: Medical Center\, RRCAT Colony\nDate/T
 ime: 16th June 2019\, 10 am to 1 pm\, SUNDAY\nRegistration will be done on
  first come first serve basis. It is expected that initial ~ 25 cases can 
 be tested in available time.\nResidents are encourage to take maximum use 
 of this opportunity.\n \nDr. Zahid Beg Mirza\nIn-charge\, Medical Center\n
 ----------------------------------Note:BONE MINERAL DENSITY is an instant 
 quantitative investigation to assess the quality of bone and its strength 
 in terms of T-score. It helps us to identify weak and osteoporotic patient
 s from the lot usually with Advanced age\, Post menopause\, Diabetes\, Art
 hritis\, Thyroid issues\, Alcoholics\, on chronic medicine therapies. Peop
 le with lack of Calcium and Vitamin D tend to acquire OSTEOPENIA (weak bon
 es) or OSTEOPOROSIS (very weak/fragile bones). Since it's treatable and cu
 rable\, an early diagnosis is the key.------------------------------ https
 ://rrcatstaffclub.in/events/rrcat/event/287-free-medical-check-up-camp-on-
 bone-mineral-density-test
DTSTART:20190616T043000Z
DTEND:20190616T073000Z
LOCATION:Medical Center\, RRCAT Colony (Unnamed Road\, RRCAT\, Indore\, Mad
 hya Pradesh 452013\, India)
SUMMARY:Free Medical Check-up Camp on Bone Mineral Density Test
URL:https://rrcatstaffclub.in/events/rrcat/event/287-free-medical-check-up-
 camp-on-bone-mineral-density-test
END:VEVENT
END:VCALENDAR
