BEGIN:VCALENDAR
VERSION:2.0
PRODID:-//https://rrcatstaffclub.in///NONSGML kigkonsult.se iCalcreator 2.10.15//
METHOD:PUBLISH
BEGIN:VEVENT
UID:20260424T205859UTC-0233ONNuVW@https://rrcatstaffclub.in/
DTSTAMP:20260424T205859Z
DESCRIPTION:Dear Colleagues\,\nRRCAT Staff Club has been working on a schem
 e to provide high speed internet service (Fiber to home) to the residents 
 of RRCAT colony through Satellite Reception Committee (SRC) which is looki
 ng after the cable TV services of RRCAT colony.\nA committee formed by Sta
 ff Club has explored various service providers available in the market for
  internet on optical fiber cable and evaluated them on the basis of techni
 cal capabilities and price competitiveness. Both the services i.e. cable T
 V &amp\; internet has been considered while evaluating the vendors. Before
  launching this service\, a meeting of all colony residents has been calle
 d in which the scheme shall be discussed and decision shall be taken to st
 art the service in RRCAT colony. The meeting is scheduled as follows:\nDay
 /date : Monday\, 18.09.2017Time : 5:30 PMVenue : Auditorium at students fa
 cility center\,2nd floor\, RRCAT Guest House\nAll residents of RRCAT colon
 y are invited to attend the meeting. Others who are interested may also at
 tend.\nwith best regardsSecretaryRRCAT Staff Club. https://rrcatstaffclub.
 in/events/rrcat/event/3-src-presentation-cable-tv-internet
DTSTART:20170918T120000Z
DTEND:20170918T130000Z
LOCATION:Guest House (Unnamed Road\, RRCAT\, Indore\, Madhya Pradesh 452013
 \, India)
SUMMARY:SRC Presentation (Cable TV & Internet)
URL:https://rrcatstaffclub.in/events/rrcat/event/3-src-presentation-cable-t
 v-internet
END:VEVENT
END:VCALENDAR
