BEGIN:VCALENDAR
VERSION:2.0
PRODID:-//https://rrcatstaffclub.in///NONSGML kigkonsult.se iCalcreator 2.10.15//
METHOD:PUBLISH
BEGIN:VEVENT
UID:20260424T211527UTC-1606LmhZ0n@https://rrcatstaffclub.in/
DTSTAMP:20260424T211527Z
DESCRIPTION: \n\n https://rrcatstaffclub.in/events/rrcat/event/301-rrcat-se
 lection-trials-for-badminton
DTSTART;VALUE=DATE:20191104
LOCATION:Badminton Court - Yoga Center (Unnamed Road\, RRCAT\, Indore\, Mad
 hya Pradesh 452013\, India)
SUMMARY:RRCAT Selection Trials for Badminton
URL:https://rrcatstaffclub.in/events/rrcat/event/301-rrcat-selection-trials
 -for-badminton
END:VEVENT
END:VCALENDAR
