BEGIN:VCALENDAR
VERSION:2.0
PRODID:-//https://rrcatstaffclub.in///NONSGML kigkonsult.se iCalcreator 2.10.15//
METHOD:PUBLISH
BEGIN:VEVENT
UID:20260424T191634UTC-4999nLVtwg@https://rrcatstaffclub.in/
DTSTAMP:20260424T191634Z
DESCRIPTION:Dear colleagues\,\nInformation regarding Nature and Adventure C
 amp for the wards of DAE employees is attached herewith.\nSome important p
 oints and date of the Nature Camp\, 2017:\nNature camp from : 23rd to 26th
  December\, 2017\nAge group : 9 to 13 years\nParticipation fee : Rs. 3000/
 -\nEnrollment forms will be accepted from: 15-11-2017 to 25-11-2017\nWith 
 best wishes\,\nRajesh ShirsatConvener\, Nature &amp\; Adventure CircleRRCA
 T Staff Club https://rrcatstaffclub.in/events/rrcat/event/31-nature-and-ad
 venture-camp-for-the-wards-of-dae-employees-2017
DTSTART:20171222T183000Z
DTEND:20171226T173000Z
LOCATION:Vana Vihar\, Ambivali\, Karjat\, Raigad\, Maharashtra (Vanvihar\, 
 Ambivali\,\, Karjat\, India)
SUMMARY:Nature and Adventure Camp for the wards of DAE Employees - 2017
URL:https://rrcatstaffclub.in/events/rrcat/event/31-nature-and-adventure-ca
 mp-for-the-wards-of-dae-employees-2017
END:VEVENT
END:VCALENDAR
