BEGIN:VCALENDAR
VERSION:2.0
PRODID:-//https://rrcatstaffclub.in///NONSGML kigkonsult.se iCalcreator 2.10.15//
METHOD:PUBLISH
BEGIN:VEVENT
UID:20260424T211828UTC-5193vhbJiV@https://rrcatstaffclub.in/
DTSTAMP:20260424T211828Z
DESCRIPTION:Dear all\,Yog Circle\, RRCAT is happy to announce a lecture-cum
 -exhibition on&nbsp\;'Cleanliness &amp\; Godliness' as per the notice atta
 ched. The programme is&nbsp\;part of a campaign on cleanliness (external a
 nd internal)by the famous&nbsp\;organisation\, Brahmakumari Iswariya Vishw
 avidyalaya\, Moubt Abu which&nbsp\;started in the year 2017.During the pro
 gramme at RRCAT convention centre\, various exhibits on&nbsp\;cleanliness\
 , Yoga &amp\; Meditation\, cultural values etc. will be displayed.&nbsp\;E
 xpert on Rajayoga meditation from Mount Abu will guide us on the&nbsp\;med
 itation technique during the programme.All staff and their family members 
 are welcome.Best regardsDr. Haridas.GActivity-in-Charge (Yog)RRCAT Staff C
 lub. https://rrcatstaffclub.in/events/rrcat/event/316-lecture-cum-exhibiti
 on-notice
DTSTART:20200223T063000Z
DTEND:20200223T073000Z
LOCATION:Homi Sethna Hall\, RRCAT Convention Center (Unnamed Road\, RRCAT\,
  Indore\, Madhya Pradesh 452013\, India)
SUMMARY:Lecture-cum-exhibition notice
URL:https://rrcatstaffclub.in/events/rrcat/event/316-lecture-cum-exhibition
 -notice
END:VEVENT
END:VCALENDAR
