BEGIN:VCALENDAR
VERSION:2.0
PRODID:-//https://rrcatstaffclub.in///NONSGML kigkonsult.se iCalcreator 2.10.15//
METHOD:PUBLISH
BEGIN:VEVENT
UID:20260424T210029UTC-4623RhZIuN@https://rrcatstaffclub.in/
DTSTAMP:20260424T210029Z
DESCRIPTION:Dear all\,RRCAT staff club is happy to invite all staff members
  and their family members to a Practical session on Meditation by Swami Pr
 em Vartan\, from OSHO world. The programme details are as follows:Date: 03
  March 2020 (Tuesday)Time: 1830 to 2000 hrs.Venue: Homi Sehtna Hall\, RRCA
 T Convention Centre.Further details of the programme are given in the invi
 tation attached.All staff members of RRCAT/AECS and their family members a
 re invited to attend the Practical Meditation session and get benefited.Dr
 . Haridas.GActivity-in-Charge(Yog)RRCAT Staff club https://rrcatstaffclub.
 in/events/rrcat/event/318-practical-session-on-meditation
DTSTART:20200303T130000Z
DTEND:20200303T143000Z
LOCATION:Homi Sethna Hall\, RRCAT Convention Center (Unnamed Road\, RRCAT\,
  Indore\, Madhya Pradesh 452013\, India)
SUMMARY:Practical session on Meditation
URL:https://rrcatstaffclub.in/events/rrcat/event/318-practical-session-on-m
 editation
END:VEVENT
END:VCALENDAR
