BEGIN:VCALENDAR
VERSION:2.0
PRODID:-//https://rrcatstaffclub.in///NONSGML kigkonsult.se iCalcreator 2.10.15//
METHOD:PUBLISH
BEGIN:VEVENT
UID:20260424T212126UTC-6966fxO1hu@https://rrcatstaffclub.in/
DTSTAMP:20260424T212126Z
DESCRIPTION:Google Meet Link:&nbsp\;https://meet.google.com/atr-cggi-pie\nY
 ouTube Videos Playlist Link:&nbsp\;https://www.youtube.com/watch?v=J8XHOKs
 s0Yk&amp\;list=PLRPLe3ut-ESaEuMRHd9JcFUA2mFRZyX3n\n\nDear all\,\nAs you ar
 e aware\, International Day of Yog (IDY) is celebrated on 21st June every 
 year throughout the world following the mass demonstration of the Common Y
 oga Protocol (CYP) evolved by Ministry of Ayush\, Government of India.&nbs
 p\; In compliance with the directive by Government of India\, RRCAT will b
 e celebrating the 6th IDY on Sunday\, the 21st June 2020\, with a focus of
  'Improving immunity through Yog'.\nIn view of the prevailing restrictions
  due to COVID-19 pandemic\, 'E-Yog' session in line with the CYP will be c
 onducted on-line through ‘Google meet' as per the following schedule:Date:
 &nbsp\; &nbsp\;21st June 2020 (Sunday)Time:&nbsp\; &nbsp\;07.30 - 08.30 hr
 s\n&nbsp\;\nFor further details\, please see the attachment.\nAll are requ
 ested to go through the attachment and take benefit of the programme.Dr. H
 aridas.GActivity-in-Charge(Yog)RRCAT Staff club\n{rsmediagallery tags='yog
 a' use_original='1' direction='desc' limit='0' show_title='0'} https://rrc
 atstaffclub.in/events/rrcat/event/319-online-event-international-day-of-yo
 ga-2020
DTSTART:20200621T020000Z
DTEND:20200621T030000Z
LOCATION:Online ()
SUMMARY:Online Event: International Day of Yoga 2020
URL:https://rrcatstaffclub.in/events/rrcat/event/319-online-event-internati
 onal-day-of-yoga-2020
END:VEVENT
END:VCALENDAR
