BEGIN:VCALENDAR
VERSION:2.0
PRODID:-//https://rrcatstaffclub.in///NONSGML kigkonsult.se iCalcreator 2.10.15//
METHOD:PUBLISH
BEGIN:VEVENT
UID:20260424T212137UTC-2662zT98aM@https://rrcatstaffclub.in/
DTSTAMP:20260424T212137Z
DESCRIPTION:Dear Everyone\,\nAn eight-a-side football tournament is going t
 o be held under the umbrella of RRCAT Staff Club from 4th November 2017\, 
 on the football ground near the AECS\, RRCAT.\nIn general\, the football m
 atches for this tournament shall be held at 7-30 AM and 5 PM on the Saturd
 ays and Sundays. The duration of the matches shall be 1 hour. However\, ad
 justment of timing shall be done to avoid any clash of timing with the on-
 going cricket tournament of RRCAT Staff Club.\nInterested persons are requ
 ested to give their names and CHSS/CC numbers to the Convener-Football (ei
 ther personally\, or through e-mail or telephone) by 2nd November 2017.\nT
 he names and CHSS/CC numbers may also be given PERSONALLY to Shri Saihun M
 undu\, Techn.-B\, Beam Delivery Systems Lab.\, IAD\, RRCAT\; or to Shri R.
 N. Chaudhary (Co-convener Football)\, JPA\, IRPSU\, RRCAT.\nIt may be note
 d that only the members of RRCAT Staff Club or their wards can participate
  in this tournament. Participants may form their teams themselves and may 
 choose their own captains. Individual participants are also welcome. We wi
 ll help them to form their teams. Three teams are already in the process o
 f formation.\nIt may also be noted that the prospective participants from 
 RRCAT for the “Selection Trials” for the Dwarka Group of DAE will be chose
 n on the basis of the performance in the above mentioned tournament\, by a
  panel of experts.\nWith best regards\,\nM. K. Chattopadhyay\,Convener\, F
 ootball\, RRCAT Staff Club.\nRoom Nos. G-3\, R &amp\; D Block–A.Phone: 830
 3.\nE-mail:&nbsp\;maulindu@rrcat.gov.in https://rrcatstaffclub.in/events/r
 rcat/event/36-football-tournament-cum-pre-selection-trials-for-dwarka-grou
 p
DTSTART;VALUE=DATE:20171104
LOCATION:AECS School Playground (Unnamed Road\, RRCAT\, Indore\, Madhya Pra
 desh 452013\, India)
SUMMARY: Football Tournament cum Pre-selection trials for DWARKA group
URL:https://rrcatstaffclub.in/events/rrcat/event/36-football-tournament-cum
 -pre-selection-trials-for-dwarka-group
END:VEVENT
END:VCALENDAR
