BEGIN:VCALENDAR
VERSION:2.0
PRODID:-//https://rrcatstaffclub.in///NONSGML kigkonsult.se iCalcreator 2.10.15//
METHOD:PUBLISH
BEGIN:VEVENT
UID:20260424T191117UTC-8155K9GF16@https://rrcatstaffclub.in/
DTSTAMP:20260424T191117Z
DESCRIPTION:Dear All DAE Sports and Cultural Council has announced 13th DAE
  Himalayan Trekking Expedition for the employees of DAE. The trekking will
  be conducted between 8/10/2023 to 15/10/2023 at Uttarakhand. Please see t
 he attached file for more details &nbsp\;&nbsp\;\n\nwith regardsGurvinderj
 it Singh Secretary\, RRCAT Staff Club\n&nbsp\;\n https://rrcatstaffclub.in
 /events/rrcat/event/374-himalayan-trekking-expedition
DTSTART:20231007T183000Z
DTEND:20231015T182959Z
LOCATION:Ali Bedni Bugyal\, Uttarakhand ()
SUMMARY:Himalayan Trekking Expedition
URL:https://rrcatstaffclub.in/events/rrcat/event/374-himalayan-trekking-exp
 edition
END:VEVENT
END:VCALENDAR
