BEGIN:VCALENDAR
VERSION:2.0
PRODID:-//https://rrcatstaffclub.in///NONSGML kigkonsult.se iCalcreator 2.10.15//
METHOD:PUBLISH
BEGIN:VEVENT
UID:20260424T212002UTC-3021SoxvUk@https://rrcatstaffclub.in/
DTSTAMP:20260424T212002Z
DESCRIPTION:To represent RRCAT in the selection trials of Dwarka group the 
 internal selection will be held on 4-5\, Nov 2017 (Sat-Sunday). All intere
 sted players (Men &amp\; Veteran categories) are requested to be present i
 n Tennis courts 1&amp\;2 for the selection trials on 4\, Nov 2017 (Saturda
 y) at 07:30AM. A nominal entree fee of Rs 100/person should be paid.\nDr. 
 Tarun Kumar SharmaConvener\, Lawn TennisTel: 8286Email: tarun@rrcat.gov.in
  https://rrcatstaffclub.in/events/rrcat/event/39-internal-selection-trials
 -for-the-lawn-tennis-tournament
DTSTART:20171104T020000Z
DTEND:20171104T063000Z
LOCATION:Tennis Courts 1 & 2 (Unnamed Road\, RRCAT\, Indore\, Madhya Prades
 h 452013\, India)
SUMMARY:Internal selection trials for the Lawn Tennis Tournament
URL:https://rrcatstaffclub.in/events/rrcat/event/39-internal-selection-tria
 ls-for-the-lawn-tennis-tournament
END:VEVENT
END:VCALENDAR
