BEGIN:VCALENDAR
VERSION:2.0
PRODID:-//https://rrcatstaffclub.in///NONSGML kigkonsult.se iCalcreator 2.10.15//
METHOD:PUBLISH
BEGIN:VEVENT
UID:20260422T041638UTC-62561VvxU9@https://rrcatstaffclub.in/
DTSTAMP:20260422T041638Z
DESCRIPTION:Dear Colleagues\,\nM/s Avantika Gas Limited\, Indore (joint ven
 ture of GAIL &amp\; HPCL) has proposed to install Piped Natural Gas (PNG) 
 network in RRCAT colony to provide domestic PNG connections to the residen
 ts of colony.\nPNG is a technologically advanced\, safe\, clean and econom
 ical source of fuel. The company has already laid the PNG network in many 
 areas of Indore city and have started providing PNG connections to the con
 sumers. The letter from the company giving details about the service &amp\
 ; features of PNG is attached for information.In order to know more about 
 PNG and to clear our queries/concerns\, a presentation has been arranged b
 y Staff Club. The presentation will be made by the officials of the compan
 y as per following schedule :\nDay/date : Thursday\, 31.08.2017Time : 4:30
  PMVenue : Main auditorium \, Central Complex\nAll are invited to attend t
 his presentation.\nThe attachment to this mail also contains a opinion sli
 p through which all employees residing in the colony are requested to give
  opinion whether they are interested to avail the PNG facility at their ho
 mes or not. The opinion slip may be submitted at presentation venue. You m
 ay also send it to undersigned. For the sake of convenience\, kindly send 
 it in bunch through your section/division/building office. It may be noted
  that the installation of PNG facility will be taken up if majority staff 
 members residing in the colony desire to have PNG facility in the homes.\n
 with best regards\nRakesh NathwaniSecretary\, RRCAT Staff Club\n  https://
 rrcatstaffclub.in/events/rrcat/event/4-presentation-on-png-facility-at-rrc
 at-colony
DTSTART:20170831T110000Z
DTEND:20170831T120000Z
LOCATION:Central Complex (Unnamed Road\, RRCAT\, Indore\, Madhya Pradesh 45
 2013\, India)
SUMMARY:Presentation on PNG Facility at RRCAT Colony
URL:https://rrcatstaffclub.in/events/rrcat/event/4-presentation-on-png-faci
 lity-at-rrcat-colony
END:VEVENT
END:VCALENDAR
