BEGIN:VCALENDAR
VERSION:2.0
PRODID:-//https://rrcatstaffclub.in///NONSGML kigkonsult.se iCalcreator 2.10.15//
METHOD:PUBLISH
BEGIN:VEVENT
UID:20260424T211713UTC-7495BRzkrR@https://rrcatstaffclub.in/
DTSTAMP:20260424T211713Z
DESCRIPTION:Dear Colleagues\,\nTo represent RRCAT in the Dwarka group\, the
  internal (RRCAT) selection trials will be held on 11th Nov 2017 (Saturday
 ) at New Badminton Court (Yoga Building court)\, 09:00 Hrs.\nAll intereste
 d players (Men \, Ladies &amp\; Veteran categories) are requested to send 
 their names on or before 12:00 hrs\, 10th Nov 2017 to Sh Santosh Sitole \,
  Co convener Badminton( Email: santoshsitole@rrcat.gov.in\, Mob: 900988574
 8 ) and be present at 09:00 hrs\,11th Nov 2017 at New Badminton Court (Yog
 a Building). Kindly note that failing to make yourself available at the sa
 id date and time no further request for selection will be entertained.\nPr
 e selection trails will be conducted for singles event only in all categor
 ies. A nominal fee of Rs. 100/- per event per head will be charged.\nYoges
 h KelkarConvener\, BadmintonPh. 8067\, Mob:94794 20572Email: kelkar@rrcat.
 gov.in https://rrcatstaffclub.in/events/rrcat/event/41-internal-selection-
 trials-for-badminton-tournament
DTSTART:20171111T033000Z
DTEND:20171111T063000Z
LOCATION:Badminton Court - Yoga Center (Unnamed Road\, RRCAT\, Indore\, Mad
 hya Pradesh 452013\, India)
SUMMARY:Internal selection trials for Badminton Tournament
URL:https://rrcatstaffclub.in/events/rrcat/event/41-internal-selection-tria
 ls-for-badminton-tournament
END:VEVENT
END:VCALENDAR
