BEGIN:VCALENDAR
VERSION:2.0
PRODID:-//https://rrcatstaffclub.in///NONSGML kigkonsult.se iCalcreator 2.10.15//
METHOD:PUBLISH
BEGIN:VEVENT
UID:20260424T211343UTC-31758htUEf@https://rrcatstaffclub.in/
DTSTAMP:20260424T211343Z
DESCRIPTION:Dear Colleagues\,Kindly see the attached document regarding pre
 -selection trials for Kabaddi team of 'Dwarka' group.with best regardsSecr
 etaryRRCAT Staff Club\n&nbsp\;\n{rsfiles path='sports/kabaddi/kabaddi pre-
 selection trials 2017.pdf'} https://rrcatstaffclub.in/events/rrcat/event/4
 2-pre-selection-trials-for-dwarka-group-kabaddi
DTSTART:20171105T030000Z
DTEND:20171105T063000Z
LOCATION:Kabaddi Ground ()
SUMMARY:Pre-selection trials for Dwarka group : Kabaddi
URL:https://rrcatstaffclub.in/events/rrcat/event/42-pre-selection-trials-fo
 r-dwarka-group-kabaddi
END:VEVENT
END:VCALENDAR
