BEGIN:VCALENDAR
VERSION:2.0
PRODID:-//https://rrcatstaffclub.in///NONSGML kigkonsult.se iCalcreator 2.10.15//
METHOD:PUBLISH
BEGIN:VEVENT
UID:20260424T230628UTC-9050cE1PWf@https://rrcatstaffclub.in/
DTSTAMP:20260424T230628Z
DESCRIPTION:Dear Colleagues\,\nSky Watch session : Saturday\, November 11\,
  2017 during 7-9 PM at school ground.\nLast week we had a brief viewing of
  Saturn followed by the Moon which was almost full and was high up in the 
 sky by the time Saturn had set. The sky has become clearer in the past wee
 k and hopefully we will have a clearer sky this Saturday. We will continue
  with viewing Saturn and we will should be able to resolve its rings if cl
 ear skies persist. Saturn with its rings at maximum tilt towards the Earth
  makes it a great view on clear sky nights. After Saturn sets (by about 8 
 PM) we hope to spot the Lagoon Nebula which lies in the constellation Sagi
 ttarius. A brief write up on Saturn is attached.\nWith best regards\,Secre
 taryRRCAT Staff Club\nNote : If you interested in viewing Saturn and its r
 ings\, please come before 8 PM after checking that the sky is clear. The p
 lanet sets by 8 PM. https://rrcatstaffclub.in/events/rrcat/event/44-sky-wa
 tch-ws-4
DTSTART:20171111T133000Z
DTEND:20171111T153000Z
LOCATION:AECS School Playground (Unnamed Road\, RRCAT\, Indore\, Madhya Pra
 desh 452013\, India)
SUMMARY:Sky Watch - WS 4
URL:https://rrcatstaffclub.in/events/rrcat/event/44-sky-watch-ws-4
END:VEVENT
END:VCALENDAR
