BEGIN:VCALENDAR
VERSION:2.0
PRODID:-//https://rrcatstaffclub.in///NONSGML kigkonsult.se iCalcreator 2.10.15//
METHOD:PUBLISH
BEGIN:VEVENT
UID:20260424T210053UTC-43476aZtPA@https://rrcatstaffclub.in/
DTSTAMP:20260424T210053Z
DESCRIPTION:Selection trials for RRCAT participation in Dwarka group team w
 ill be held at RRCAT welfare center on November 11-12\, 2017 (Saturday-Sun
 day). All interested participants\, who are members of RRCAT staff club\, 
 are requested to assemble at 10:00 hrs on 11th November (Saturday) at welf
 are center.\nDr. Mukesh JoshiConvener\, ChessRRCAT Staff club https://rrca
 tstaffclub.in/events/rrcat/event/45-selection-trials-for-chess
DTSTART:20171111T043000Z
DTEND:20171112T063000Z
LOCATION:Welfare Center - RRCAT Colony (Unnamed Road\, RRCAT\, Indore\, Mad
 hya Pradesh 452013\, India)
SUMMARY:Selection Trials for CHESS
URL:https://rrcatstaffclub.in/events/rrcat/event/45-selection-trials-for-ch
 ess
END:VEVENT
END:VCALENDAR
