BEGIN:VCALENDAR
VERSION:2.0
PRODID:-//https://rrcatstaffclub.in///NONSGML kigkonsult.se iCalcreator 2.10.15//
METHOD:PUBLISH
BEGIN:VEVENT
UID:20260424T212002UTC-7943uogg8I@https://rrcatstaffclub.in/
DTSTAMP:20260424T212002Z
DESCRIPTION:Dear Sir/Madam\,\nYog Circle\, RRCAT Staff has organized a Yogi
 c cleansing (of alimentary canal) - Varisar Dhauti (Shanghaprakshalan) on 
 Sunday 12th November 2017 in the Yog Hall. Kindly see the attached circula
 r for details. All interested are invited for the programme.\n&nbsp\;\nTha
 nking you\,\nB. DevadasanConvener\, Yog CircleRRCAT Staff ClubTel: 0731-24
 88848\, 2321341Fax: 0731-2321343\n&nbsp\;\n{rsfiles path='yoga/Yogic clean
 sing - Varisar Dhauthi Shanghaprakshalana on 12.11.2017.pdf'}\n&nbsp\; htt
 ps://rrcatstaffclub.in/events/rrcat/event/46-yogic-cleansing-of-alimentary
 -canal-varisar-dhauthi-shankhaprakshlan
DTSTART:20171112T003000Z
DTEND:20171112T023000Z
LOCATION:Yoga Center (Unnamed Road\, RRCAT\, Indore\, Madhya Pradesh 452013
 \, India)
SUMMARY:Yogic cleansing (of alimentary canal)- Varisar Dhauthi (ShankhaPrak
 shlan)
URL:https://rrcatstaffclub.in/events/rrcat/event/46-yogic-cleansing-of-alim
 entary-canal-varisar-dhauthi-shankhaprakshlan
END:VEVENT
END:VCALENDAR
