BEGIN:VCALENDAR
VERSION:2.0
PRODID:-//https://rrcatstaffclub.in///NONSGML kigkonsult.se iCalcreator 2.10.15//
METHOD:PUBLISH
BEGIN:VEVENT
UID:20260424T061411UTC-1586wHUdO0@https://rrcatstaffclub.in/
DTSTAMP:20260424T061411Z
DESCRIPTION:Dear Colleagues\,\nKindly see the attached document regarding p
 re-selection trials for Athletics team of 'Dwarka' group.\n \nwith best re
 gardsSecretaryRRCAT Staff Club https://rrcatstaffclub.in/events/rrcat/even
 t/47-pre-selection-trials-for-dwarka-group-athletics
DTSTART:20171119T023000Z
DTEND:20171119T063000Z
LOCATION:AECS School Playground (Unnamed Road\, RRCAT\, Indore\, Madhya Pra
 desh 452013\, India)
SUMMARY:Pre-selection trials for Dwarka group : Athletics
URL:https://rrcatstaffclub.in/events/rrcat/event/47-pre-selection-trials-fo
 r-dwarka-group-athletics
END:VEVENT
END:VCALENDAR
