BEGIN:VCALENDAR
VERSION:2.0
PRODID:-//https://rrcatstaffclub.in///NONSGML kigkonsult.se iCalcreator 2.10.15//
METHOD:PUBLISH
BEGIN:VEVENT
UID:20260424T211056UTC-1367UGk7ke@https://rrcatstaffclub.in/
DTSTAMP:20260424T211056Z
DESCRIPTION:Dear Colleagues\,Sky Watch session : Saturday\, November 18\, 2
 017 during 9-10 PM  at Lake Side Community Centre (LSCC) roof top.Last wee
 k we had a brief viewing of Saturn after which the visibility of the sky b
 ecame very poor. This week we shift our focus away from Saturn and try to 
 view some open cluster of stars. One such attractive group is the Pleiades
 . The Pleiades also known as the Seven Sisters and Messier 45 is an open s
 tar cluster located in the constellation of Taurus clearly visible even to
  the naked eye. A brief write up on the session is attached.Please note th
 e change in both venue and timing.With best regards\,SecretaryRRCAT Staff 
 Club https://rrcatstaffclub.in/events/rrcat/event/48-sky-watch-ws-5
DTSTART:20171118T133000Z
DTEND:20171118T153000Z
LOCATION:Lake Side Community Center (Unnamed Road\, RRCAT\, Indore\, Madhya
  Pradesh 452013\, India)
SUMMARY:Sky Watch - WS 5
URL:https://rrcatstaffclub.in/events/rrcat/event/48-sky-watch-ws-5
END:VEVENT
END:VCALENDAR
