BEGIN:VCALENDAR
VERSION:2.0
PRODID:-//https://rrcatstaffclub.in///NONSGML kigkonsult.se iCalcreator 2.10.15//
METHOD:PUBLISH
BEGIN:VEVENT
UID:20260424T230709UTC-6519cHAJTU@https://rrcatstaffclub.in/
DTSTAMP:20260424T230709Z
DESCRIPTION: \nDear Colleagues\,\nLast week because of poor visibility of t
 he sky we could not view the Pleiades group of stars. If this week it is c
 lear we will again try and view the the Pleiades also known as the Seven S
 isters and Messier 45 is an open star cluster located in the constellation
  of Taurus clearly visible even to the naked eye. A brief write up on the 
 session is attached. Please check to see if the sky is clear before coming
  to the lakeside community centre rooftop between 9 to 10 PM.\nWith best r
 egards\,Sendhil https://rrcatstaffclub.in/events/rrcat/event/52-sky-watch-
 ws-6
DTSTART:20171125T153000Z
DTEND:20171125T163000Z
LOCATION:Lake Side Community Center (Unnamed Road\, RRCAT\, Indore\, Madhya
  Pradesh 452013\, India)
SUMMARY:Sky Watch - WS 6
URL:https://rrcatstaffclub.in/events/rrcat/event/52-sky-watch-ws-6
END:VEVENT
END:VCALENDAR
