BEGIN:VCALENDAR
VERSION:2.0
PRODID:-//https://rrcatstaffclub.in///NONSGML kigkonsult.se iCalcreator 2.10.15//
METHOD:PUBLISH
BEGIN:VEVENT
UID:20260424T211346UTC-1083DvH84Z@https://rrcatstaffclub.in/
DTSTAMP:20260424T211346Z
DESCRIPTION:To represent RRCAT in the selection trials of Dwarka group\, th
 e internal selection will be held on December 5 and 6\, 2017. All interest
 ed players (Men\, Women and Veteran categories) are requested to be presen
 t in Table Tennis room\, Community Centre for the selection trials at 07:3
 0 PM on December 5 and 6. \nThe Dwarka group selection trials will be held
  at HWB\, Baroda on 19-20\, December 2017. \nSanjay SharmaConvener\, Table
  TennisTel: 8719\, 2294Email: sanjays@rrcat.gov.in https://rrcatstaffclub.
 in/events/rrcat/event/53-selection-trials-for-table-tennis
DTSTART:20171205T140000Z
DTEND:20171205T160000Z
LOCATION:Welfare Center - RRCAT Colony (Unnamed Road\, RRCAT\, Indore\, Mad
 hya Pradesh 452013\, India)
SUMMARY:Selection trials for Table Tennis
URL:https://rrcatstaffclub.in/events/rrcat/event/53-selection-trials-for-ta
 ble-tennis
END:VEVENT
END:VCALENDAR
