BEGIN:VCALENDAR
VERSION:2.0
PRODID:-//https://rrcatstaffclub.in///NONSGML kigkonsult.se iCalcreator 2.10.15//
METHOD:PUBLISH
BEGIN:VEVENT
UID:20260424T211219UTC-2869VRMfvc@https://rrcatstaffclub.in/
DTSTAMP:20260424T211219Z
DESCRIPTION:Dear all\nTo represent RRCAT in the Cricket selection trials of
  Dwarka group\, the internal selection will be held on December 10\, 2017.
  All interested players are requested to be present in Cricket ground\, at
  09:00 AM on December 10\,2017 for the trials.\nThe Dwarka group cricket s
 election trials will be held at TAPS 1&amp\;2\, Tarapur on 17-19\, Decembe
 r 2017\nR.K.ChoudharyConvener\, CricketMob. 9425953735Email: ranjeev@rrcat
 .gov.in https://rrcatstaffclub.in/events/rrcat/event/57-cricket-selection-
 trials-for-dwarka-group
DTSTART:20171210T033000Z
DTEND:20171210T073000Z
LOCATION:AECS School Playground (Unnamed Road\, RRCAT\, Indore\, Madhya Pra
 desh 452013\, India)
SUMMARY:Cricket selection trials for Dwarka group
URL:https://rrcatstaffclub.in/events/rrcat/event/57-cricket-selection-trial
 s-for-dwarka-group
END:VEVENT
END:VCALENDAR
