BEGIN:VCALENDAR
VERSION:2.0
PRODID:-//https://rrcatstaffclub.in///NONSGML kigkonsult.se iCalcreator 2.10.15//
METHOD:PUBLISH
BEGIN:VEVENT
UID:20260424T211425UTC-6982vnThlX@https://rrcatstaffclub.in/
DTSTAMP:20260424T211425Z
DESCRIPTION:Dear Colleagues\,\nTo represent RRCAT in the Cultural events of
  Dwarka group\, the internal (RRCAT) selection trials will be held on 19th
  Dec 2017 (Tuesday) at Community Centre \, 18:00 Hrs for the following eve
 nts:\n1. Drama (one act play) Max participants limited to 10 including the
  accompanist - 45 minutes2. On the spot painting – 2 hours max3. Poetry (o
 wn composition)- 5-8 minutes\nNote : For drama and poetry\, participation 
 is permitted in all Indian Languages. However for judgement\, Hindi/Englis
 h translation may be provided in advance.\nAll interested participants are
  requested to give their names to Shri Yogesh Kelkar (kelkar@rrcat.gov.in 
 \, mob: 94794 20572 ) or Smt. Sujata Joshi (sujata@rrcat.gov.in Mob : 9893
 4 08805 ) latest by Thursday 14.12.2017 before 17.30 pm and be present 18:
 00 hrs on 19th Dec 2017 (Tuesday) at Community Centre.\nKindly note that\,
  in the case of failing to make yourself available at the said date and ti
 me\, no further request for selection will be entertained.\nSujata JoshiCo
 nvener\, CulturalPh.2842\, Mob: 98934 08805Email: sujata@rrcat.gov.in http
 s://rrcatstaffclub.in/events/rrcat/event/58-pre-selection-trials-for-cultu
 ral-events
DTSTART:20171219T123000Z
DTEND:20171219T163000Z
LOCATION:Welfare Center - RRCAT Colony (Unnamed Road\, RRCAT\, Indore\, Mad
 hya Pradesh 452013\, India)
SUMMARY:Pre-selection trials for Cultural events
URL:https://rrcatstaffclub.in/events/rrcat/event/58-pre-selection-trials-fo
 r-cultural-events
END:VEVENT
END:VCALENDAR
