BEGIN:VCALENDAR
VERSION:2.0
PRODID:-//https://rrcatstaffclub.in///NONSGML kigkonsult.se iCalcreator 2.10.15//
METHOD:PUBLISH
BEGIN:VEVENT
UID:20260424T211249UTC-6963t3tvWv@https://rrcatstaffclub.in/
DTSTAMP:20260424T211249Z
DESCRIPTION: \nDear colleagues\,\nSky watch session : Saturday\, 6.1.2017 f
 rom 9 to 10 PM\, Venue : LSCC (near Yog building)\nWe start the first sess
 ion of the new year with the Pleiades and the Orion constellation. The Ple
 iades also known as the Seven Sisters and Messier 45 is an open star clust
 er located in the constellation of Taurus and the Orion Nebula\, known as 
 Messier 42\, is a diffuse nebula situated south of Orion's Belt in the con
 stellation of Orion. A brief write up on the session is attached. Please n
 ote that the venue is lakeside community centre rooftop and the session is
  from 9 to 10 PM.\nWith best regards\,\nSendhil https://rrcatstaffclub.in/
 events/rrcat/event/59-sky-watch-session-1-2018
DTSTART:20180106T153000Z
DTEND:20180106T163000Z
LOCATION:Lake Side Community Center (Unnamed Road\, RRCAT\, Indore\, Madhya
  Pradesh 452013\, India)
SUMMARY:Sky Watch Session 1 (2018)
URL:https://rrcatstaffclub.in/events/rrcat/event/59-sky-watch-session-1-201
 8
END:VEVENT
END:VCALENDAR
