BEGIN:VCALENDAR
VERSION:2.0
PRODID:-//https://rrcatstaffclub.in///NONSGML kigkonsult.se iCalcreator 2.10.15//
METHOD:PUBLISH
BEGIN:VEVENT
UID:20260424T211054UTC-6433IKDOXe@https://rrcatstaffclub.in/
DTSTAMP:20260424T211054Z
DESCRIPTION:\n\n\nDear Colleagues\,\nRRCAT Staff club is happy to announce 
 that Dwarka group selection trials for cultural events are going to be hel
 d during 18.01.2018 to 19.01.2018 in New Convention Centre of RRCAT. The p
 rogramme is attached herewith. You are cordially invited with family to at
 tend the programme.\nPresident\, RRCAT Staff Club\n \nProgramme\n\n\n\n\nD
 ate &amp\; Day\nTime\nEvent\n\nVenue(Convention Center)\n\n\n\n18-Jan-2018
 (Thursday)\n10.30-12.30\nOn the Spot Painting\nPoster session Hall\n\n\n 
 \n14.00-15.30\nPoetry\nVikram Sarabhai Lecture Hall\n\n\n \n16.00-19.00\nD
 rama\nHomi Bhabha Auditorium\n\n\n19-Jan-2018(Friday)\n16.00-19.00\nDrama
 \nHomi Bhabha Auditorium\n\n\n\n \n\n\n\n https://rrcatstaffclub.in/events
 /rrcat/event/63-dwarka-group-selection-trials---cultural
DTSTART:20180118T050000Z
DTEND:20180119T133000Z
LOCATION:Homi Bhabha Auditorium\, RRCAT Convention Center (Unnamed Road\, R
 RCAT\, Indore\, Madhya Pradesh 452013\, India)
SUMMARY:Dwarka Group Selection trials – Cultural
URL:https://rrcatstaffclub.in/events/rrcat/event/63-dwarka-group-selection-
 trials---cultural
END:VEVENT
END:VCALENDAR
