BEGIN:VCALENDAR
VERSION:2.0
PRODID:-//https://rrcatstaffclub.in///NONSGML kigkonsult.se iCalcreator 2.10.15//
METHOD:PUBLISH
BEGIN:VEVENT
UID:20260424T211120UTC-6546BIdOET@https://rrcatstaffclub.in/
DTSTAMP:20260424T211120Z
DESCRIPTION:Dear All\,\n'The Science Discovery Club will be screening the s
 econd episode of Carl Sagan's COSMOS: One Voice in the Cosmic Fugue on Feb
  9\, 2018 in the lecture hall of the Convention Centre from 7 to 8 PM. All
  members of the Staff club are invited to the screening'\nWith best regard
 s\,\nA S JoshiPresident\, RRCAT staff club https://rrcatstaffclub.in/event
 s/rrcat/event/67-science-movie-night
DTSTART:20180209T133000Z
DTEND:20180209T143000Z
LOCATION:Homi Sethna Hall\, RRCAT Convention Center (Unnamed Road\, RRCAT\,
  Indore\, Madhya Pradesh 452013\, India)
SUMMARY:Science Movie Night
URL:https://rrcatstaffclub.in/events/rrcat/event/67-science-movie-night
END:VEVENT
END:VCALENDAR
