BEGIN:VCALENDAR
VERSION:2.0
PRODID:-//https://rrcatstaffclub.in///NONSGML kigkonsult.se iCalcreator 2.10.15//
METHOD:PUBLISH
BEGIN:VEVENT
UID:20260424T211122UTC-6598G8GrD3@https://rrcatstaffclub.in/
DTSTAMP:20260424T211122Z
DESCRIPTION:Dear All\,\n'The Science Discovery Club will be screening the t
 hird episode of Carl Sagan's COSMOS: The Harmony of the Worlds on Feb 16\,
  2018 in the Homi Sethna Hall\, Convention Centre\, from 7 to 8 PM. All me
 mbers of the Staff club are invited to the screening'\nWith best regards\,
 \nA S JoshiPresident\, RRCAT staff club https://rrcatstaffclub.in/events/r
 rcat/event/68-science-movie-night
DTSTART:20180216T133000Z
DTEND:20180216T143000Z
LOCATION:Homi Sethna Hall\, RRCAT Convention Center (Unnamed Road\, RRCAT\,
  Indore\, Madhya Pradesh 452013\, India)
SUMMARY:Science Movie Night
URL:https://rrcatstaffclub.in/events/rrcat/event/68-science-movie-night
END:VEVENT
END:VCALENDAR
