BEGIN:VCALENDAR
VERSION:2.0
PRODID:-//https://rrcatstaffclub.in///NONSGML kigkonsult.se iCalcreator 2.10.15//
METHOD:PUBLISH
BEGIN:VEVENT
UID:20260424T211209UTC-388358b0w1@https://rrcatstaffclub.in/
DTSTAMP:20260424T211209Z
DESCRIPTION:Dear All\,\n\n'The Science Discovery Club will be screening the
  fifth episode of Carl Sagan's COSMOS: 'Blues for a Red Planet' on March 2
 \, 2018 in the Homi Sethna Hall\, Convention Centre\, from 7 to 8 PM. All 
 members of the Staff club are invited to the screening'\n \nWith best rega
 rds\,\nA S JoshiPresident\, RRCAT Staff Club\n https://rrcatstaffclub.in/e
 vents/rrcat/event/70-science-movie-night
DTSTART:20180302T133000Z
DTEND:20180302T143000Z
LOCATION:Homi Sethna Hall\, RRCAT Convention Center (Unnamed Road\, RRCAT\,
  Indore\, Madhya Pradesh 452013\, India)
SUMMARY:Science Movie Night
URL:https://rrcatstaffclub.in/events/rrcat/event/70-science-movie-night
END:VEVENT
END:VCALENDAR
