BEGIN:VCALENDAR
VERSION:2.0
PRODID:-//https://rrcatstaffclub.in///NONSGML kigkonsult.se iCalcreator 2.10.15//
METHOD:PUBLISH
BEGIN:VEVENT
UID:20260424T211218UTC-7649WUKAvu@https://rrcatstaffclub.in/
DTSTAMP:20260424T211218Z
DESCRIPTION:Dear Colleagues\,\nSky Watch session : Saturday\, March 3\, 201
 8\, Time :9 to 10 PM\, Venue : LSCC rooftop\nFor the fifth session we star
 t with the rising constellation of this month\, Ursa Major\, along with Or
 ion and the winter hexagon. Also\, the moon puts in an appearance in the l
 ater part of the evening. The brief write up on the session is attached. P
 lease note that the venue is lakeside community centre rooftop and the ses
 sion is from 9 to 10 PM.\nWith best regards\,\nSendhil https://rrcatstaffc
 lub.in/events/rrcat/event/71-sky-watch-session-5-2018
DTSTART:20180303T153000Z
DTEND:20180303T163000Z
LOCATION:Lake Side Community Center (Unnamed Road\, RRCAT\, Indore\, Madhya
  Pradesh 452013\, India)
SUMMARY:Sky Watch Session 5 (2018)
URL:https://rrcatstaffclub.in/events/rrcat/event/71-sky-watch-session-5-201
 8
END:VEVENT
END:VCALENDAR
