BEGIN:VCALENDAR
VERSION:2.0
PRODID:-//https://rrcatstaffclub.in///NONSGML kigkonsult.se iCalcreator 2.10.15//
METHOD:PUBLISH
BEGIN:VEVENT
UID:20260424T210931UTC-9016gN1isj@https://rrcatstaffclub.in/
DTSTAMP:20260424T210931Z
DESCRIPTION: XXXIII DAE Sports and Cultural Meet 2017-18\n \n\n\n\nSr. No.
 \nTitle\nTeam\nLanguage\n\n\n1\nIndradhanushya\nAjanta\nMarathi\n\n\n2\nEb
 om Kiya\nKonark\nOdia\n\n\n3\nVande Mee Taram\nNagarjuna\nTelugu\n\n\n\n 
 \n  https://rrcatstaffclub.in/events/rrcat/event/73-one-act-play
DTSTART:20180313T110000Z
DTEND:20180313T150000Z
LOCATION:Homi Bhabha Auditorium\, RRCAT Convention Center (Unnamed Road\, R
 RCAT\, Indore\, Madhya Pradesh 452013\, India)
SUMMARY:One-Act-Play
URL:https://rrcatstaffclub.in/events/rrcat/event/73-one-act-play
END:VEVENT
END:VCALENDAR
