BEGIN:VCALENDAR
VERSION:2.0
PRODID:-//https://rrcatstaffclub.in///NONSGML kigkonsult.se iCalcreator 2.10.15//
METHOD:PUBLISH
BEGIN:VEVENT
UID:20260424T211527UTC-15757m61Fu@https://rrcatstaffclub.in/
DTSTAMP:20260424T211527Z
DESCRIPTION: XXXIII DAE Sports and Cultural Meet 2017-18\n  https://rrcatst
 affclub.in/events/rrcat/event/76-on-the-spot-painting
DTSTART:20180314T050000Z
DTEND:20180314T070000Z
LOCATION:Guest House (Unnamed Road\, RRCAT\, Indore\, Madhya Pradesh 452013
 \, India)
SUMMARY:On-the-Spot Painting
URL:https://rrcatstaffclub.in/events/rrcat/event/76-on-the-spot-painting
END:VEVENT
END:VCALENDAR
